Package: KEGGREST Version: 1.46.0 Command: /Library/Frameworks/R.framework/Resources/bin/R CMD build --keep-empty-dirs --no-resave-data KEGGREST StartedAt: 2025-03-31 19:39:26 -0400 (Mon, 31 Mar 2025) EndedAt: 2025-03-31 19:40:01 -0400 (Mon, 31 Mar 2025) EllapsedTime: 35.0 seconds RetCode: 1 Status: ERROR PackageFile: None PackageFileSize: NA