Package: KEGGREST Version: 1.46.0 Command: /Library/Frameworks/R.framework/Resources/bin/R CMD check --install=check:KEGGREST.install-out.txt --library=/Library/Frameworks/R.framework/Resources/library --no-vignettes --timings KEGGREST_1.46.0.tar.gz StartedAt: 2025-03-25 23:15:36 -0400 (Tue, 25 Mar 2025) EndedAt: 2025-03-25 23:19:29 -0400 (Tue, 25 Mar 2025) EllapsedTime: 232.9 seconds RetCode: 0 Status: OK CheckDir: KEGGREST.Rcheck Warnings: 0