Package: KCsmart Version: 2.64.0 Command: /home/biocbuild/bbs-3.20-bioc/R/bin/R CMD build --keep-empty-dirs --no-resave-data --md5 KCsmart StartedAt: 2025-03-31 17:46:50 -0400 (Mon, 31 Mar 2025) EndedAt: 2025-03-31 17:47:13 -0400 (Mon, 31 Mar 2025) EllapsedTime: 23.0 seconds RetCode: 0 Status: OK PackageFile: KCsmart_2.64.0.tar.gz PackageFileSize: 1.82 MiB