Package: KCsmart Version: 2.64.0 Command: rm -rf KCsmart.buildbin-libdir && mkdir KCsmart.buildbin-libdir && /Users/biocbuild/BBS/utils/build-universal.sh KCsmart_2.64.0.tar.gz /Library/Frameworks/R.framework/Resources/bin/R KCsmart.buildbin-libdir StartedAt: 2025-04-01 12:07:32 -0400 (Tue, 01 Apr 2025) EndedAt: 2025-04-01 12:07:56 -0400 (Tue, 01 Apr 2025) EllapsedTime: 23.8 seconds RetCode: 0 Status: OK PackageFile: KCsmart_2.64.0.tgz PackageFileSize: 2.198 MiB