Package: KBoost Version: 1.14.0 Command: /home/biocbuild/R/R/bin/R CMD INSTALL KBoost StartedAt: 2025-03-31 20:11:08 -0000 (Mon, 31 Mar 2025) EndedAt: 2025-03-31 20:11:22 -0000 (Mon, 31 Mar 2025) EllapsedTime: 14.2 seconds RetCode: 0 Status: OK