Package: KBoost Version: 1.14.0 Command: rm -rf KBoost.buildbin-libdir && mkdir KBoost.buildbin-libdir && /Users/biocbuild/BBS/utils/build-universal.sh KBoost_1.14.0.tar.gz /Library/Frameworks/R.framework/Resources/bin/R KBoost.buildbin-libdir StartedAt: 2025-04-01 12:07:29 -0400 (Tue, 01 Apr 2025) EndedAt: 2025-04-01 12:07:36 -0400 (Tue, 01 Apr 2025) EllapsedTime: 7.6 seconds RetCode: 0 Status: OK PackageFile: KBoost_1.14.0.tgz PackageFileSize: 575.3 KiB