Package: IsoCorrectoRGUI Version: 1.22.0 Command: rm -rf IsoCorrectoRGUI.buildbin-libdir && mkdir IsoCorrectoRGUI.buildbin-libdir && /Users/biocbuild/BBS/utils/build-universal.sh IsoCorrectoRGUI_1.22.0.tar.gz /Library/Frameworks/R.framework/Resources/bin/R IsoCorrectoRGUI.buildbin-libdir StartedAt: 2025-04-01 12:06:55 -0400 (Tue, 01 Apr 2025) EndedAt: 2025-04-01 12:07:08 -0400 (Tue, 01 Apr 2025) EllapsedTime: 13.2 seconds RetCode: 0 Status: OK PackageFile: IsoCorrectoRGUI_1.22.0.tgz PackageFileSize: 455.3 KiB