Package: IsoCorrectoR Version: 1.24.0 Command: /home/biocbuild/R/R/bin/R CMD check --install=check:IsoCorrectoR.install-out.txt --library=/home/biocbuild/R/R/site-library --no-vignettes --timings IsoCorrectoR_1.24.0.tar.gz StartedAt: 2025-04-01 07:41:24 -0000 (Tue, 01 Apr 2025) EndedAt: 2025-04-01 07:43:14 -0000 (Tue, 01 Apr 2025) EllapsedTime: 110.1 seconds RetCode: 0 Status: OK CheckDir: IsoCorrectoR.Rcheck Warnings: 0