Package: IsoBayes Version: 1.4.0 Command: /home/biocbuild/bbs-3.20-bioc/R/bin/R CMD build --keep-empty-dirs --no-resave-data --md5 IsoBayes StartedAt: 2025-03-31 17:45:44 -0400 (Mon, 31 Mar 2025) EndedAt: 2025-03-31 17:47:33 -0400 (Mon, 31 Mar 2025) EllapsedTime: 109.1 seconds RetCode: 0 Status: OK PackageFile: IsoBayes_1.4.0.tar.gz PackageFileSize: 1.796 MiB