Package: InteractionSet Version: 1.34.0 Command: /Library/Frameworks/R.framework/Resources/bin/R CMD build --keep-empty-dirs --no-resave-data InteractionSet StartedAt: 2025-04-01 01:44:04 -0400 (Tue, 01 Apr 2025) EndedAt: 2025-04-01 01:45:10 -0400 (Tue, 01 Apr 2025) EllapsedTime: 66.5 seconds RetCode: 0 Status: OK PackageFile: InteractionSet_1.34.0.tar.gz PackageFileSize: 391.1 KiB