Package: InterCellar Version: 2.12.0 Command: /home/biocbuild/R/R/bin/R CMD INSTALL InterCellar StartedAt: 2025-03-31 21:09:39 -0000 (Mon, 31 Mar 2025) EndedAt: 2025-03-31 21:10:15 -0000 (Mon, 31 Mar 2025) EllapsedTime: 36.1 seconds RetCode: 0 Status: OK