Package: IntEREst Version: 1.30.2 Command: /home/biocbuild/R/R/bin/R CMD build --keep-empty-dirs --no-resave-data IntEREst StartedAt: 2025-04-01 00:19:54 -0000 (Tue, 01 Apr 2025) EndedAt: 2025-04-01 00:21:53 -0000 (Tue, 01 Apr 2025) EllapsedTime: 119.0 seconds RetCode: 0 Status: OK PackageFile: IntEREst_1.30.2.tar.gz PackageFileSize: 1.338 MiB