Package: IntEREst Version: 1.30.2 Command: /Library/Frameworks/R.framework/Resources/bin/R CMD INSTALL IntEREst StartedAt: 2025-03-31 16:21:53 -0400 (Mon, 31 Mar 2025) EndedAt: 2025-03-31 16:23:43 -0400 (Mon, 31 Mar 2025) EllapsedTime: 110.2 seconds RetCode: 0 Status: OK