Package: Informeasure Version: 1.16.0 Command: /home/biocbuild/R/R/bin/R CMD INSTALL Informeasure StartedAt: 2025-03-31 20:12:17 -0000 (Mon, 31 Mar 2025) EndedAt: 2025-03-31 20:12:42 -0000 (Mon, 31 Mar 2025) EllapsedTime: 24.9 seconds RetCode: 0 Status: OK