Package: Informeasure Version: 1.16.0 Command: /home/biocbuild/R/R/bin/R CMD build --keep-empty-dirs --no-resave-data Informeasure StartedAt: 2025-04-01 00:18:13 -0000 (Tue, 01 Apr 2025) EndedAt: 2025-04-01 00:18:28 -0000 (Tue, 01 Apr 2025) EllapsedTime: 15.0 seconds RetCode: 0 Status: OK PackageFile: Informeasure_1.16.0.tar.gz PackageFileSize: 300.9 KiB