Package: InTAD Version: 1.26.0 Command: F:\biocbuild\bbs-3.20-bioc\R\bin\R.exe CMD INSTALL InTAD StartedAt: 2025-03-31 16:59:53 -0400 (Mon, 31 Mar 2025) EndedAt: 2025-03-31 17:00:40 -0400 (Mon, 31 Mar 2025) EllapsedTime: 46.7 seconds RetCode: 0 Status: OK