Package: InTAD Version: 1.26.0 Command: /Library/Frameworks/R.framework/Resources/bin/R CMD build --keep-empty-dirs --no-resave-data InTAD StartedAt: 2025-03-31 19:31:33 -0400 (Mon, 31 Mar 2025) EndedAt: 2025-03-31 19:33:39 -0400 (Mon, 31 Mar 2025) EllapsedTime: 125.9 seconds RetCode: 0 Status: OK PackageFile: InTAD_1.26.0.tar.gz PackageFileSize: 1.213 MiB