Package: InPAS Version: 2.14.1 Command: /home/biocbuild/R/R/bin/R CMD INSTALL InPAS StartedAt: 2025-03-31 20:38:15 -0000 (Mon, 31 Mar 2025) EndedAt: 2025-03-31 20:39:12 -0000 (Mon, 31 Mar 2025) EllapsedTime: 56.4 seconds RetCode: 0 Status: OK