Package: InPAS Version: 2.14.1 Command: F:\biocbuild\bbs-3.20-bioc\R\bin\R.exe CMD check --no-multiarch --install=check:InPAS.install-out.txt --library=F:\biocbuild\bbs-3.20-bioc\R\library --no-vignettes --timings InPAS_2.14.1.tar.gz StartedAt: 2025-04-01 02:38:52 -0400 (Tue, 01 Apr 2025) EndedAt: 2025-04-01 02:46:19 -0400 (Tue, 01 Apr 2025) EllapsedTime: 447.2 seconds RetCode: 0 Status: WARNINGS CheckDir: InPAS.Rcheck Warnings: 1