Package: InPAS Version: 2.14.1 Command: /Library/Frameworks/R.framework/Resources/bin/R CMD build --keep-empty-dirs --no-resave-data InPAS StartedAt: 2025-03-31 19:30:47 -0400 (Mon, 31 Mar 2025) EndedAt: 2025-03-31 19:37:07 -0400 (Mon, 31 Mar 2025) EllapsedTime: 379.6 seconds RetCode: 0 Status: OK PackageFile: InPAS_2.14.1.tar.gz PackageFileSize: 1.435 MiB