Package: InPAS Version: 2.14.1 Command: rm -rf InPAS.buildbin-libdir && mkdir InPAS.buildbin-libdir && /Users/biocbuild/BBS/utils/build-universal.sh InPAS_2.14.1.tar.gz /Library/Frameworks/R.framework/Resources/bin/R InPAS.buildbin-libdir StartedAt: 2025-04-01 12:05:02 -0400 (Tue, 01 Apr 2025) EndedAt: 2025-04-01 12:06:43 -0400 (Tue, 01 Apr 2025) EllapsedTime: 101.2 seconds RetCode: 0 Status: OK PackageFile: InPAS_2.14.1.tgz PackageFileSize: 3.44 MiB