Package: Icens Version: 1.78.0 Command: /home/biocbuild/bbs-3.20-bioc/R/bin/R CMD check --install=check:Icens.install-out.txt --library=/home/biocbuild/bbs-3.20-bioc/R/site-library --timings Icens_1.78.0.tar.gz StartedAt: 2025-03-31 23:03:17 -0400 (Mon, 31 Mar 2025) EndedAt: 2025-03-31 23:03:49 -0400 (Mon, 31 Mar 2025) EllapsedTime: 32.0 seconds RetCode: 0 Status: OK CheckDir: Icens.Rcheck Warnings: 0