Package: Icens Version: 1.78.0 Command: /Library/Frameworks/R.framework/Resources/bin/R CMD INSTALL Icens StartedAt: 2025-03-31 17:07:01 -0400 (Mon, 31 Mar 2025) EndedAt: 2025-03-31 17:07:06 -0400 (Mon, 31 Mar 2025) EllapsedTime: 5.7 seconds RetCode: 0 Status: OK