Package: IWTomics Version: 1.30.0 Command: F:\biocbuild\bbs-3.20-bioc\R\bin\R.exe CMD INSTALL IWTomics StartedAt: 2025-03-31 17:07:49 -0400 (Mon, 31 Mar 2025) EndedAt: 2025-03-31 17:08:31 -0400 (Mon, 31 Mar 2025) EllapsedTime: 42.5 seconds RetCode: 0 Status: OK