Package: IWTomics Version: 1.30.0 Command: F:\biocbuild\bbs-3.20-bioc\R\bin\R.exe CMD check --no-multiarch --install=check:IWTomics.install-out.txt --library=F:\biocbuild\bbs-3.20-bioc\R\library --no-vignettes --timings IWTomics_1.30.0.tar.gz StartedAt: 2025-04-01 02:49:40 -0400 (Tue, 01 Apr 2025) EndedAt: 2025-04-01 02:53:57 -0400 (Tue, 01 Apr 2025) EllapsedTime: 256.9 seconds RetCode: 0 Status: WARNINGS CheckDir: IWTomics.Rcheck Warnings: 1