Package: IWTomics Version: 1.30.0 Command: rm -rf IWTomics.buildbin-libdir && mkdir IWTomics.buildbin-libdir && F:\biocbuild\bbs-3.20-bioc\R\bin\R.exe CMD INSTALL --build --library=IWTomics.buildbin-libdir IWTomics_1.30.0.tar.gz StartedAt: 2025-04-01 08:28:23 -0400 (Tue, 01 Apr 2025) EndedAt: 2025-04-01 08:29:29 -0400 (Tue, 01 Apr 2025) EllapsedTime: 66.3 seconds RetCode: 0 Status: OK PackageFile: IWTomics_1.30.0.zip PackageFileSize: 1.632 MiB