Package: IVAS Version: 2.26.0 Command: /home/biocbuild/R/R/bin/R CMD INSTALL IVAS StartedAt: 2025-03-31 20:30:49 -0000 (Mon, 31 Mar 2025) EndedAt: 2025-03-31 20:31:40 -0000 (Mon, 31 Mar 2025) EllapsedTime: 51.8 seconds RetCode: 0 Status: OK