Package: IVAS Version: 2.26.0 Command: /home/biocbuild/R/R/bin/R CMD build --keep-empty-dirs --no-resave-data IVAS StartedAt: 2025-04-01 00:23:38 -0000 (Tue, 01 Apr 2025) EndedAt: 2025-04-01 00:24:57 -0000 (Tue, 01 Apr 2025) EllapsedTime: 79.0 seconds RetCode: 0 Status: OK PackageFile: IVAS_2.26.0.tar.gz PackageFileSize: 248.9 KiB