Package: IVAS Version: 2.26.0 Command: /Library/Frameworks/R.framework/Resources/bin/R CMD INSTALL IVAS StartedAt: 2025-03-31 15:32:20 -0400 (Mon, 31 Mar 2025) EndedAt: 2025-03-31 15:33:43 -0400 (Mon, 31 Mar 2025) EllapsedTime: 82.9 seconds RetCode: 0 Status: OK