Package: IVAS Version: 2.26.0 Command: /Library/Frameworks/R.framework/Resources/bin/R CMD check --install=check:IVAS.install-out.txt --library=/Library/Frameworks/R.framework/Resources/library --no-vignettes --timings IVAS_2.26.0.tar.gz StartedAt: 2025-04-01 22:55:42 -0400 (Tue, 01 Apr 2025) EndedAt: 2025-04-01 23:01:22 -0400 (Tue, 01 Apr 2025) EllapsedTime: 340.4 seconds RetCode: 0 Status: WARNINGS CheckDir: IVAS.Rcheck Warnings: 1