Package: IVAS Version: 2.26.0 Command: /Library/Frameworks/R.framework/Resources/bin/R CMD build --keep-empty-dirs --no-resave-data IVAS StartedAt: 2025-04-01 01:54:20 -0400 (Tue, 01 Apr 2025) EndedAt: 2025-04-01 01:55:39 -0400 (Tue, 01 Apr 2025) EllapsedTime: 78.8 seconds RetCode: 0 Status: OK PackageFile: IVAS_2.26.0.tar.gz PackageFileSize: 252.1 KiB