Package: IVAS Version: 2.26.0 Command: rm -rf IVAS.buildbin-libdir && mkdir IVAS.buildbin-libdir && /Users/biocbuild/BBS/utils/build-universal.sh IVAS_2.26.0.tar.gz /Library/Frameworks/R.framework/Resources/bin/R IVAS.buildbin-libdir StartedAt: 2025-04-02 14:53:31 -0400 (Wed, 02 Apr 2025) EndedAt: 2025-04-02 14:54:23 -0400 (Wed, 02 Apr 2025) EllapsedTime: 52.0 seconds RetCode: 0 Status: OK PackageFile: IVAS_2.26.0.tgz PackageFileSize: 678.3 KiB