Package: ITALICS Version: 2.66.0 Command: /home/biocbuild/R/R/bin/R CMD INSTALL ITALICS StartedAt: 2025-03-31 20:25:47 -0000 (Mon, 31 Mar 2025) EndedAt: 2025-03-31 20:26:19 -0000 (Mon, 31 Mar 2025) EllapsedTime: 31.2 seconds RetCode: 0 Status: OK