Package: ITALICS Version: 2.66.0 Command: /home/biocbuild/R/R/bin/R CMD build --keep-empty-dirs --no-resave-data ITALICS StartedAt: 2025-04-01 00:23:13 -0000 (Tue, 01 Apr 2025) EndedAt: 2025-04-01 00:24:12 -0000 (Tue, 01 Apr 2025) EllapsedTime: 59.0 seconds RetCode: 0 Status: OK PackageFile: ITALICS_2.66.0.tar.gz PackageFileSize: 607.3 KiB