Package: ITALICS Version: 2.66.0 Command: chmod a+r ITALICS -R && F:\biocbuild\bbs-3.20-bioc\R\bin\R.exe CMD build --keep-empty-dirs --no-resave-data ITALICS StartedAt: 2025-03-31 19:46:39 -0400 (Mon, 31 Mar 2025) EndedAt: 2025-03-31 19:48:08 -0400 (Mon, 31 Mar 2025) EllapsedTime: 89.1 seconds RetCode: 0 Status: OK PackageFile: ITALICS_2.66.0.tar.gz PackageFileSize: 474.8 KiB