Package: ITALICS Version: 2.66.0 Command: /Library/Frameworks/R.framework/Resources/bin/R CMD check --install=check:ITALICS.install-out.txt --library=/Library/Frameworks/R.framework/Resources/library --no-vignettes --timings ITALICS_2.66.0.tar.gz StartedAt: 2025-04-01 04:46:52 -0400 (Tue, 01 Apr 2025) EndedAt: 2025-04-01 04:53:00 -0400 (Tue, 01 Apr 2025) EllapsedTime: 367.8 seconds RetCode: 0 Status: OK CheckDir: ITALICS.Rcheck Warnings: 0