Package: ITALICS Version: 2.66.0 Command: rm -rf ITALICS.buildbin-libdir && mkdir ITALICS.buildbin-libdir && /Users/biocbuild/BBS/utils/build-universal.sh ITALICS_2.66.0.tar.gz /Library/Frameworks/R.framework/Resources/bin/R ITALICS.buildbin-libdir StartedAt: 2025-04-01 12:07:04 -0400 (Tue, 01 Apr 2025) EndedAt: 2025-04-01 12:07:59 -0400 (Tue, 01 Apr 2025) EllapsedTime: 55.1 seconds RetCode: 0 Status: OK PackageFile: ITALICS_2.66.0.tgz PackageFileSize: 555.2 KiB