Package: ITALICS Version: 2.66.0 Command: /Library/Frameworks/R.framework/Resources/bin/R CMD INSTALL ITALICS StartedAt: 2025-03-31 15:41:53 -0400 (Mon, 31 Mar 2025) EndedAt: 2025-03-31 15:41:54 -0400 (Mon, 31 Mar 2025) EllapsedTime: 1.2 seconds RetCode: 1 Status: ERROR