Package: ISLET Version: 1.8.0 Command: /Library/Frameworks/R.framework/Resources/bin/R CMD build --keep-empty-dirs --no-resave-data ISLET StartedAt: 2025-03-31 19:36:34 -0400 (Mon, 31 Mar 2025) EndedAt: 2025-03-31 19:41:36 -0400 (Mon, 31 Mar 2025) EllapsedTime: 302.4 seconds RetCode: 0 Status: OK PackageFile: ISLET_1.8.0.tar.gz PackageFileSize: 2.185 MiB