Package: ISLET Version: 1.8.0 Command: /Library/Frameworks/R.framework/Resources/bin/R CMD INSTALL ISLET StartedAt: 2025-03-31 15:49:32 -0400 (Mon, 31 Mar 2025) EndedAt: 2025-03-31 15:50:01 -0400 (Mon, 31 Mar 2025) EllapsedTime: 29.3 seconds RetCode: 0 Status: OK