Package: ISAnalytics Version: 1.16.1 Command: /home/biocbuild/R/R/bin/R CMD check --install=check:ISAnalytics.install-out.txt --library=/home/biocbuild/R/R/site-library --no-vignettes --timings ISAnalytics_1.16.1.tar.gz StartedAt: 2025-04-01 07:37:41 -0000 (Tue, 01 Apr 2025) EndedAt: 2025-04-01 07:46:51 -0000 (Tue, 01 Apr 2025) EllapsedTime: 550.6 seconds RetCode: 0 Status: OK CheckDir: ISAnalytics.Rcheck Warnings: 0