Package: ISAnalytics Version: 1.16.1 Command: /home/biocbuild/R/R/bin/R CMD build --keep-empty-dirs --no-resave-data ISAnalytics StartedAt: 2025-04-01 00:20:33 -0000 (Tue, 01 Apr 2025) EndedAt: 2025-04-01 00:23:26 -0000 (Tue, 01 Apr 2025) EllapsedTime: 173.1 seconds RetCode: 0 Status: OK PackageFile: ISAnalytics_1.16.1.tar.gz PackageFileSize: 4.125 MiB