Package: ISAnalytics Version: 1.16.1 Command: F:\biocbuild\bbs-3.20-bioc\R\bin\R.exe CMD check --no-multiarch --install=check:ISAnalytics.install-out.txt --library=F:\biocbuild\bbs-3.20-bioc\R\library --no-vignettes --timings ISAnalytics_1.16.1.tar.gz StartedAt: 2025-04-01 02:43:09 -0400 (Tue, 01 Apr 2025) EndedAt: 2025-04-01 02:53:15 -0400 (Tue, 01 Apr 2025) EllapsedTime: 605.8 seconds RetCode: 0 Status: OK CheckDir: ISAnalytics.Rcheck Warnings: 0