Package: ISAnalytics Version: 1.16.1 Command: /Library/Frameworks/R.framework/Resources/bin/R CMD build --keep-empty-dirs --no-resave-data ISAnalytics StartedAt: 2025-04-01 01:47:21 -0400 (Tue, 01 Apr 2025) EndedAt: 2025-04-01 01:50:01 -0400 (Tue, 01 Apr 2025) EllapsedTime: 160.2 seconds RetCode: 0 Status: OK PackageFile: ISAnalytics_1.16.1.tar.gz PackageFileSize: 4.442 MiB