Package: IPO Version: 1.32.0 Command: /home/biocbuild/R/R/bin/R CMD INSTALL IPO StartedAt: 2025-03-31 20:53:03 -0000 (Mon, 31 Mar 2025) EndedAt: 2025-03-31 20:53:57 -0000 (Mon, 31 Mar 2025) EllapsedTime: 53.9 seconds RetCode: 0 Status: OK