Package: IPO Version: 1.32.0 Command: /home/biocbuild/R/R/bin/R CMD build --keep-empty-dirs --no-resave-data IPO StartedAt: 2025-04-01 00:20:18 -0000 (Tue, 01 Apr 2025) EndedAt: 2025-04-01 00:39:49 -0000 (Tue, 01 Apr 2025) EllapsedTime: 1171.5 seconds RetCode: 0 Status: OK PackageFile: IPO_1.32.0.tar.gz PackageFileSize: 548.5 KiB