Package: IONiseR Version: 2.30.0 Command: /Library/Frameworks/R.framework/Resources/bin/R CMD build --keep-empty-dirs --no-resave-data IONiseR StartedAt: 2025-03-31 19:33:05 -0400 (Mon, 31 Mar 2025) EndedAt: 2025-03-31 19:36:34 -0400 (Mon, 31 Mar 2025) EllapsedTime: 209.5 seconds RetCode: 0 Status: OK PackageFile: IONiseR_2.30.0.tar.gz PackageFileSize: 4.182 MiB