Package: IONiseR Version: 2.30.0 Command: rm -rf IONiseR.buildbin-libdir && mkdir IONiseR.buildbin-libdir && /Users/biocbuild/BBS/utils/build-universal.sh IONiseR_2.30.0.tar.gz /Library/Frameworks/R.framework/Resources/bin/R IONiseR.buildbin-libdir StartedAt: 2025-04-01 12:05:43 -0400 (Tue, 01 Apr 2025) EndedAt: 2025-04-01 12:06:57 -0400 (Tue, 01 Apr 2025) EllapsedTime: 74.7 seconds RetCode: 0 Status: OK PackageFile: IONiseR_2.30.0.tgz PackageFileSize: 4.298 MiB