Package: IONiseR Version: 2.30.0 Command: /Library/Frameworks/R.framework/Resources/bin/R CMD build --keep-empty-dirs --no-resave-data IONiseR StartedAt: 2025-04-01 01:45:38 -0400 (Tue, 01 Apr 2025) EndedAt: 2025-04-01 01:48:22 -0400 (Tue, 01 Apr 2025) EllapsedTime: 163.6 seconds RetCode: 0 Status: OK PackageFile: IONiseR_2.30.0.tar.gz PackageFileSize: 4.185 MiB