Package: IONiseR Version: 2.30.0 Command: rm -rf IONiseR.buildbin-libdir && mkdir IONiseR.buildbin-libdir && /Users/biocbuild/BBS/utils/build-universal.sh IONiseR_2.30.0.tar.gz /Library/Frameworks/R.framework/Resources/bin/R IONiseR.buildbin-libdir StartedAt: 2025-04-02 14:50:31 -0400 (Wed, 02 Apr 2025) EndedAt: 2025-04-02 14:51:15 -0400 (Wed, 02 Apr 2025) EllapsedTime: 44.2 seconds RetCode: 0 Status: OK PackageFile: IONiseR_2.30.0.tgz PackageFileSize: 4.304 MiB